BEGIN:VCALENDAR
VERSION:2.0
PRODID:-//AAPC - ECPv6.15.17.1//NONSGML v1.0//EN
CALSCALE:GREGORIAN
METHOD:PUBLISH
X-WR-CALNAME:AAPC
X-ORIGINAL-URL:https://theaapc.org
X-WR-CALDESC:Events for AAPC
REFRESH-INTERVAL;VALUE=DURATION:PT1H
X-Robots-Tag:noindex
X-PUBLISHED-TTL:PT1H
BEGIN:VTIMEZONE
TZID:UTC
BEGIN:STANDARD
TZOFFSETFROM:+0000
TZOFFSETTO:+0000
TZNAME:UTC
DTSTART:20230101T000000
END:STANDARD
END:VTIMEZONE
BEGIN:VEVENT
DTSTART;TZID=UTC:20241023T130000
DTEND;TZID=UTC:20241023T140000
DTSTAMP:20260419T194947
CREATED:20240925T184340Z
LAST-MODIFIED:20240925T184340Z
UID:10000394-1729688400-1729692000@theaapc.org
SUMMARY:AAPC Webinar: The Gen Z Vote: Strategies for Mobilizing the Next Generation
DESCRIPTION:
URL:https://theaapc.org/event/aapc-webinar-the-gen-z-vote-strategies-for-mobilizing-the-next-generation/
LOCATION:https://theaapc.org/event/aapc-webinar-the-gen-z-vote-strategies-for-mobilizing-the-next-generation/
CATEGORIES:Webinars
END:VEVENT
END:VCALENDAR