BEGIN:VCALENDAR
VERSION:2.0
PRODID:-//AAPC - ECPv6.15.17.1//NONSGML v1.0//EN
CALSCALE:GREGORIAN
METHOD:PUBLISH
X-ORIGINAL-URL:https://theaapc.org
X-WR-CALDESC:Events for AAPC
REFRESH-INTERVAL;VALUE=DURATION:PT1H
X-Robots-Tag:noindex
X-PUBLISHED-TTL:PT1H
BEGIN:VTIMEZONE
TZID:America/Chicago
BEGIN:DAYLIGHT
TZOFFSETFROM:-0600
TZOFFSETTO:-0500
TZNAME:CDT
DTSTART:20210314T080000
END:DAYLIGHT
BEGIN:STANDARD
TZOFFSETFROM:-0500
TZOFFSETTO:-0600
TZNAME:CST
DTSTART:20211107T070000
END:STANDARD
BEGIN:DAYLIGHT
TZOFFSETFROM:-0600
TZOFFSETTO:-0500
TZNAME:CDT
DTSTART:20220313T080000
END:DAYLIGHT
BEGIN:STANDARD
TZOFFSETFROM:-0500
TZOFFSETTO:-0600
TZNAME:CST
DTSTART:20221106T070000
END:STANDARD
BEGIN:DAYLIGHT
TZOFFSETFROM:-0600
TZOFFSETTO:-0500
TZNAME:CDT
DTSTART:20230312T080000
END:DAYLIGHT
BEGIN:STANDARD
TZOFFSETFROM:-0500
TZOFFSETTO:-0600
TZNAME:CST
DTSTART:20231105T070000
END:STANDARD
END:VTIMEZONE
BEGIN:VEVENT
DTSTART;TZID=America/Chicago:20220727T180000
DTEND;TZID=America/Chicago:20220728T160000
DTSTAMP:20260423T145102
CREATED:20220412T141359Z
LAST-MODIFIED:20220713T131238Z
UID:10000174-1658944800-1659024000@theaapc.org
SUMMARY:2022 Midwest Regional Conference
DESCRIPTION:Join AAPC in Chicago\, IL on July 27-28th for a day-long conference full of networking\, education sessions and more!
URL:https://theaapc.org/event/2022-midwest-regional-conference/
LOCATION:The Metropolitan Club\, 233 S. Wacker Drive.\, Chicago\, IL\, 60606\, United States
CATEGORIES:Conferences
END:VEVENT
END:VCALENDAR