BEGIN:VCALENDAR
VERSION:2.0
PRODID:-//AAPC - ECPv6.15.17.1//NONSGML v1.0//EN
CALSCALE:GREGORIAN
METHOD:PUBLISH
X-WR-CALNAME:AAPC
X-ORIGINAL-URL:https://theaapc.org
X-WR-CALDESC:Events for AAPC
REFRESH-INTERVAL;VALUE=DURATION:PT1H
X-Robots-Tag:noindex
X-PUBLISHED-TTL:PT1H
BEGIN:VTIMEZONE
TZID:UTC
BEGIN:STANDARD
TZOFFSETFROM:+0000
TZOFFSETTO:+0000
TZNAME:UTC
DTSTART:20210101T000000
END:STANDARD
END:VTIMEZONE
BEGIN:VEVENT
DTSTART;TZID=UTC:20220519T111500
DTEND;TZID=UTC:20220519T120500
DTSTAMP:20260422T182212
CREATED:20220110T073952Z
LAST-MODIFIED:20221103T192829Z
UID:10000153-1652958900-1652961900@theaapc.org
SUMMARY:Breakout: The Future of Fundraising
DESCRIPTION:Fundraising is the backbone of every impactful political campaign. We’ve seen digital and texting revolutionize the world of fundraising\, but what’s next? Learn from the best in the business about the newest platforms and trends in fundraising.   \nCertificate Program Eligible: Campaign Tech B7 Fundraising
URL:https://theaapc.org/event/breakout-4/
LOCATION:Las Olas
CATEGORIES:2022 Pollies
END:VEVENT
BEGIN:VEVENT
DTSTART;TZID=UTC:20220519T100000
DTEND;TZID=UTC:20220519T105000
DTSTAMP:20260422T182212
CREATED:20220309T211149Z
LAST-MODIFIED:20221103T192852Z
UID:10000165-1652954400-1652957400@theaapc.org
SUMMARY:Breakout: Breaking Down the Data Silos
DESCRIPTION:Will we ever get to a single data source for all voter contact?  Data silos present one of the most frustrating aspects of political campaigns. Learn where solutions are emerging to help break the data divide. \nCertificate Program Eligible: Campaign Tech B5 Data Management
URL:https://theaapc.org/event/data-silos/
LOCATION:Las Olas
CATEGORIES:2022 Pollies
END:VEVENT
BEGIN:VEVENT
DTSTART;TZID=UTC:20220518T111500
DTEND;TZID=UTC:20220518T120500
DTSTAMP:20260422T182212
CREATED:20220309T210645Z
LAST-MODIFIED:20221103T193658Z
UID:10000164-1652872500-1652875500@theaapc.org
SUMMARY:Breakout: The Black Box: Shedding Light on the Creative Process
DESCRIPTION:Every political ad maker has their own take on the creative process. However\, we all begin with raw research that ends with a finished product on screen. What takes place in the middle can often seem to be a black box. This panel will explore how different ad makers come up with winning concepts. \nCertificate Program Eligible: Communications A3 Creative Execution
URL:https://theaapc.org/event/the-black-box-shedding-light-on-the-creative-process/
LOCATION:Las Olas
CATEGORIES:2022 Pollies
END:VEVENT
BEGIN:VEVENT
DTSTART;TZID=UTC:20220518T100000
DTEND;TZID=UTC:20220518T105000
DTSTAMP:20260422T182212
CREATED:20220406T205148Z
LAST-MODIFIED:20221103T193740Z
UID:10000170-1652868000-1652871000@theaapc.org
SUMMARY:Breakout: Media Usage Studies & Strategies to Help You Reach Voters
DESCRIPTION:TVB will present 2022 Voter Media Usage and Influence data from Dynata\, GFK and Engagement Labs. These studies include research on Voters’ relationship with traditional media as well as streaming video\, mobile and social media.  Political decision makers will find the presentation extremely valuable in helping them win races by better understanding how to reach their target voters!
URL:https://theaapc.org/event/breakout-media-usage-studies-strategies-to-help-you-reach-voters/
LOCATION:Las Olas
CATEGORIES:2022 Pollies
END:VEVENT
BEGIN:VEVENT
DTSTART;TZID=UTC:20220517T103000
DTEND;TZID=UTC:20220517T120000
DTSTAMP:20260422T182212
CREATED:20220105T094954Z
LAST-MODIFIED:20221103T193436Z
UID:10000122-1652783400-1652788800@theaapc.org
SUMMARY:USPS Listening Session: A Conversation with the Postal Service on Leveraging The Direct Mail Effect
DESCRIPTION:Join the United States Postal Service® to discuss the ways in which direct mail was used effectively this past election cycle and how to continue leveraging the direct mail effect in political campaigns leading up to the Midterm Elections. During the session\, USPS will engage with AAPC members and also share insights from their newly released joint white paper with AAPC that includes insights from their 2021 post-election survey in Virginia as well as comparisons to similar surveys conducted by the Postal Service following the 2017 Virginia Gubernatorial Election and the 2020 National Elections\, to provide an overview of what voters think about when viewing political advertising and a path to more effective and efficient use of direct mail as part of an integrated political campaign. Don’t miss out on this opportunity to be part of a conversation with the Postal Service and its dedicated direct mail experts.
URL:https://theaapc.org/event/usps-listening-session/
LOCATION:Las Olas
CATEGORIES:2022 Pollies
END:VEVENT
END:VCALENDAR