BEGIN:VCALENDAR
VERSION:2.0
PRODID:-//AAPC - ECPv6.15.17.1//NONSGML v1.0//EN
CALSCALE:GREGORIAN
METHOD:PUBLISH
X-ORIGINAL-URL:https://theaapc.org
X-WR-CALDESC:Events for AAPC
REFRESH-INTERVAL;VALUE=DURATION:PT1H
X-Robots-Tag:noindex
X-PUBLISHED-TTL:PT1H
BEGIN:VTIMEZONE
TZID:UTC
BEGIN:STANDARD
TZOFFSETFROM:+0000
TZOFFSETTO:+0000
TZNAME:UTC
DTSTART:20250101T000000
END:STANDARD
END:VTIMEZONE
BEGIN:VEVENT
DTSTART;VALUE=DATE:20260609
DTEND;VALUE=DATE:20260610
DTSTAMP:20260422T225851
CREATED:20260217T194714Z
LAST-MODIFIED:20260217T194714Z
UID:10000418-1780963200-1781049599@theaapc.org
SUMMARY:AAPC Hall of Fame Gala
DESCRIPTION:
URL:https://theaapc.org/event/aapc-hall-of-fame-gala/
LOCATION:The Willard | Washington\, D.C.\, 1401 Pennsylvania Ave NW\, Washington\, DC\, 20004\, United States
CATEGORIES:Conferences
END:VEVENT
END:VCALENDAR